BEGIN:VCALENDAR
VERSION:2.0
PRODID:-//eventon.com NONSGML v1.0//EN
CALSCALE:GREGORIAN
METHOD:PUBLISH
BEGIN:VEVENT
UID:69e7ce5b547c3
DTSTAMP:20260421T192203Z
DTSTART:20201106T180000Z
DTEND:20201106T190000Z
LOCATION:https://zoom.us/j/97889539137?pwd=Q2w2WUQ5alF3eitVd3dJejg0VU5jZz09
SUMMARY:كيف تصبح كاتب محتوى؟
DESCRIPTION:لمشاهدة الجلسة: يسعدنا الإعلان عن 
 لسة جديدة على منصّة تعلّم الكتابة لتجربة
  المستخدم UX Writing بالعربية، بالتعاون مع مج
 مع كتّاب المحتوى المصري Egyptian Writers Community ب
 عنوان: كيف تصبح كاتب محتوى؟ مع ضيفة الجلس
 : (نهى عبد التواب) – Visual Storyteller &amp; Content Desig
 ner\,  Digital Marketing Manager at CEQUENS، يدير الجلسة (محم
 ود عبدربه) –[..]\nhttps://uxwritingar.com/events/%d9%83%d9%8a%d9%
 81-%d8%aa%d8%b5%d8%a8%d8%ad-%d9%83%d8%a7%d8%aa%d8%a8-%d9%85%d8%ad%d8%aa%d9%
 88%d9%89%d8%9f/var/event_access
URL:https://uxwritingar.com/events/%d9%83%d9%8a%d9%81-%d8%aa%d8%b5%d8%a8%d8%ad-%d9%83%d8%a7%d8%aa%d8%a8-%d9%85%d8%ad%d8%aa%d9%88%d9%89%d8%9f/var/event_access
END:VEVENT
END:VCALENDAR